BEGIN:VCALENDAR
VERSION:2.0
PRODID:-//Albert Schweitzer Realschule Dortmund - ECPv6.10.0//NONSGML v1.0//EN
CALSCALE:GREGORIAN
METHOD:PUBLISH
X-WR-CALNAME:Albert Schweitzer Realschule Dortmund
X-ORIGINAL-URL:https://albert-schweitzer-realschule-dortmund.de
X-WR-CALDESC:Veranstaltungen für Albert Schweitzer Realschule Dortmund
REFRESH-INTERVAL;VALUE=DURATION:PT1H
X-Robots-Tag:noindex
X-PUBLISHED-TTL:PT1H
BEGIN:VTIMEZONE
TZID:UTC
BEGIN:STANDARD
TZOFFSETFROM:+0000
TZOFFSETTO:+0000
TZNAME:UTC
DTSTART:20230101T000000
END:STANDARD
END:VTIMEZONE
BEGIN:VEVENT
DTSTART;VALUE=DATE:20231101
DTEND;VALUE=DATE:20231102
DTSTAMP:20260421T082136
CREATED:20230621T145028Z
LAST-MODIFIED:20230621T145028Z
UID:102-1698796800-1698883199@albert-schweitzer-realschule-dortmund.de
SUMMARY:Allerheiligen
DESCRIPTION:
URL:https://albert-schweitzer-realschule-dortmund.de/event/allerheiligen/
CATEGORIES:Feiertag
END:VEVENT
BEGIN:VEVENT
DTSTART;VALUE=DATE:20231121
DTEND;VALUE=DATE:20231122
DTSTAMP:20260421T082136
CREATED:20231102T101557Z
LAST-MODIFIED:20231102T101557Z
UID:9056-1700524800-1700611199@albert-schweitzer-realschule-dortmund.de
SUMMARY:Elternsprechtag
DESCRIPTION:
URL:https://albert-schweitzer-realschule-dortmund.de/event/elternsprechtag/
END:VEVENT
BEGIN:VEVENT
DTSTART;TZID=UTC:20231128T130000
DTEND;TZID=UTC:20231128T154500
DTSTAMP:20260421T082136
CREATED:20231102T101718Z
LAST-MODIFIED:20231102T101718Z
UID:9058-1701176400-1701186300@albert-schweitzer-realschule-dortmund.de
SUMMARY:4. Lehrerkonferenz
DESCRIPTION:
URL:https://albert-schweitzer-realschule-dortmund.de/event/4-lehrerkonferenz/
END:VEVENT
END:VCALENDAR