BEGIN:VCALENDAR
VERSION:2.0
PRODID:-//Albert Schweitzer Realschule Dortmund - ECPv6.10.0//NONSGML v1.0//EN
CALSCALE:GREGORIAN
METHOD:PUBLISH
X-WR-CALNAME:Albert Schweitzer Realschule Dortmund
X-ORIGINAL-URL:https://albert-schweitzer-realschule-dortmund.de
X-WR-CALDESC:Veranstaltungen für Albert Schweitzer Realschule Dortmund
REFRESH-INTERVAL;VALUE=DURATION:PT1H
X-Robots-Tag:noindex
X-PUBLISHED-TTL:PT1H
BEGIN:VTIMEZONE
TZID:UTC
BEGIN:STANDARD
TZOFFSETFROM:+0000
TZOFFSETTO:+0000
TZNAME:UTC
DTSTART:20250101T000000
END:STANDARD
END:VTIMEZONE
BEGIN:VEVENT
DTSTART;VALUE=DATE:20250926
DTEND;VALUE=DATE:20250927
DTSTAMP:20260421T082142
CREATED:20250911T091108Z
LAST-MODIFIED:20250911T094624Z
UID:13142-1758844800-1758931199@albert-schweitzer-realschule-dortmund.de
SUMMARY:Der Fotograf kommt in´s Haus!
DESCRIPTION:
URL:https://albert-schweitzer-realschule-dortmund.de/event/der-fotograf-kommt-ins-haus-2/
END:VEVENT
END:VCALENDAR