BEGIN:VCALENDAR
VERSION:2.0
PRODID:-//Albert Schweitzer Realschule Dortmund - ECPv6.10.0//NONSGML v1.0//EN
CALSCALE:GREGORIAN
METHOD:PUBLISH
X-WR-CALNAME:Albert Schweitzer Realschule Dortmund
X-ORIGINAL-URL:https://albert-schweitzer-realschule-dortmund.de
X-WR-CALDESC:Veranstaltungen für Albert Schweitzer Realschule Dortmund
REFRESH-INTERVAL;VALUE=DURATION:PT1H
X-Robots-Tag:noindex
X-PUBLISHED-TTL:PT1H
BEGIN:VTIMEZONE
TZID:UTC
BEGIN:STANDARD
TZOFFSETFROM:+0000
TZOFFSETTO:+0000
TZNAME:UTC
DTSTART:20230101T000000
END:STANDARD
END:VTIMEZONE
BEGIN:VEVENT
DTSTART;VALUE=DATE:20231226
DTEND;VALUE=DATE:20231227
DTSTAMP:20260421T082739
CREATED:20230621T145113Z
LAST-MODIFIED:20230621T145113Z
UID:106-1703548800-1703635199@albert-schweitzer-realschule-dortmund.de
SUMMARY:2. Weihnachtstag
DESCRIPTION:
URL:https://albert-schweitzer-realschule-dortmund.de/event/2-weihnachtstag/
CATEGORIES:Feiertag
END:VEVENT
END:VCALENDAR