BEGIN:VCALENDAR
VERSION:2.0
PRODID:-//Albert Schweitzer Realschule Dortmund - ECPv6.10.0//NONSGML v1.0//EN
CALSCALE:GREGORIAN
METHOD:PUBLISH
X-ORIGINAL-URL:https://albert-schweitzer-realschule-dortmund.de
X-WR-CALDESC:Veranstaltungen für Albert Schweitzer Realschule Dortmund
REFRESH-INTERVAL;VALUE=DURATION:PT1H
X-Robots-Tag:noindex
X-PUBLISHED-TTL:PT1H
BEGIN:VTIMEZONE
TZID:UTC
BEGIN:STANDARD
TZOFFSETFROM:+0000
TZOFFSETTO:+0000
TZNAME:UTC
DTSTART:20230101T000000
END:STANDARD
END:VTIMEZONE
BEGIN:VEVENT
DTSTART;VALUE=DATE:20231212
DTEND;VALUE=DATE:20231213
DTSTAMP:20260421T082342
CREATED:20231212T112743Z
LAST-MODIFIED:20231212T112755Z
UID:9649-1702339200-1702425599@albert-schweitzer-realschule-dortmund.de
SUMMARY:Anmeldung neue 5er - 15.02.2024 -21.02.2024
DESCRIPTION:
URL:https://albert-schweitzer-realschule-dortmund.de/event/anmeldung-neue-5er-15-02-2024-21-02-2024/
END:VEVENT
BEGIN:VEVENT
DTSTART;VALUE=DATE:20231212
DTEND;VALUE=DATE:20231213
DTSTAMP:20260421T082342
CREATED:20231212T112847Z
LAST-MODIFIED:20231212T112847Z
UID:9654-1702339200-1702425599@albert-schweitzer-realschule-dortmund.de
SUMMARY:Beginn Praktikum Jahrgang 9
DESCRIPTION:
URL:https://albert-schweitzer-realschule-dortmund.de/event/beginn-praktikum-jahrgang-9/
END:VEVENT
BEGIN:VEVENT
DTSTART;VALUE=DATE:20231212
DTEND;VALUE=DATE:20231213
DTSTAMP:20260421T082342
CREATED:20231212T113000Z
LAST-MODIFIED:20231212T113000Z
UID:9658-1702339200-1702425599@albert-schweitzer-realschule-dortmund.de
SUMMARY:Vera 8 - Englisch
DESCRIPTION:
URL:https://albert-schweitzer-realschule-dortmund.de/event/vera-8-englisch/
END:VEVENT
END:VCALENDAR